BEGIN:VCALENDAR
VERSION:2.0
CALSCALE:GREGORIAN
PRODID:-//MyApp//Calendar 1.0//EN
BEGIN:VEVENT
METHOD:PUBLISH
UID:38035@regionalniportaly.cz
DTSTAMP:20260421T225558Z
DTSTART;VALUE=DATE:20231228
DTEND;VALUE=DATE:20231229
SUMMARY:První říčanská veřejná tančírna
DESCRIPTION:
LOCATION:Říčany
END:VEVENT
END:VCALENDAR