BEGIN:VCALENDAR
VERSION:2.0
CALSCALE:GREGORIAN
PRODID:-//MyApp//Calendar 1.0//EN
BEGIN:VEVENT
METHOD:PUBLISH
UID:37937@regionalniportaly.cz
DTSTAMP:20260422T021526Z
DTSTART;VALUE=DATE:20240423
DTEND;VALUE=DATE:20240424
SUMMARY:Můj nejlepší kamarád
DESCRIPTION:Komorní divadlo KalichAutor:&nbsp\;Eric AssousBernard a Phillippe jsou nejlepší přátelé\, a přece tolik rozdílní. Bernard pracuje na skvělém postu v rodinném podniku své ženy Nelly\, zároveň doplácí na svou vášeň sukničkáře. Svou milenku dokonce přivede do jiného stavu. Kdyby se o tom dozvěděla jeho manželka\, přišel by o všechno. Proto požádá o pomoc svého kamaráda Phillipea\, dobráka od kosti\, který žije spořádaně se svou přítelkyní Alicí a nemá peněz nazbyt. Tím se roztáčí vynalézavý kolotoč situací a zápletek\, na jehož konci není vůbec jisté\, zda se Phillippeovi nezhroutí jeho vztah s Alicí a zda Bernardovi všechny jeho lži neprojdou…Komediální archetyp hravého lháře\, který se dokáže vykroutit i ze zdánlivě bezvýchodných situací a vymýšlí si s takovou intenzitou\, jako by to byl skutečně zažil\, migruje světovou dramatikou od antiky přes Alarcóna\, Corneille\, Goldoniho až právě po Érica Assouse\, který svou inteligentní a důvtipnou komedii Můj nejlepší kamarád napsal v roce 2011.Délka představení:&nbsp\;120 minut včetně přestávkyHerecké obsazeníBernard:&nbsp\;Aleš HámaPhillipe:&nbsp\;Petr MotlochNelly:&nbsp\;Nela BoudováAlice:&nbsp\;Tereza KostkováSoraya:&nbsp\;Michaela Dittrichová&nbsp\;/&nbsp\;Lucie OkonováVstupné 440/ 400 Kč\, platí sleva ZTP a senior 70+.
LOCATION:Čelákovice
END:VEVENT
END:VCALENDAR