BEGIN:VCALENDAR
VERSION:2.0
CALSCALE:GREGORIAN
PRODID:-//MyApp//Calendar 1.0//EN
BEGIN:VEVENT
METHOD:PUBLISH
UID:36675@regionalniportaly.cz
DTSTAMP:20260422T011746Z
DTSTART;VALUE=DATE:20231214
DTEND;VALUE=DATE:20231215
SUMMARY:Beseda s Tomášem Etzlerem
DESCRIPTION:Beseda s novinářem Tomášem EtzleremVálečným zpravodajem CNN na Haiti\, v&nbsp\;Íraku a Afgánistánu stálým zpravodajem České televize v&nbsp\;ČíněNositelem ocenění Emmy\, kterou získal jako vůbec první ČechAutorem knihy Novinářem v&nbsp\;Číně. Co jsem to proboha udělal?Režisérem celovečerního dokumentárního filmu o sirotčinci na čínském venkově NEBE! Již 14. 12. 2023 od 18.00 hodin v komunitním sále Centra Péče Čerčany !
LOCATION:Čerčany
END:VEVENT
END:VCALENDAR