BEGIN:VCALENDAR
VERSION:2.0
CALSCALE:GREGORIAN
PRODID:-//MyApp//Calendar 1.0//EN
BEGIN:VEVENT
METHOD:PUBLISH
UID:35966@regionalniportaly.cz
DTSTAMP:20260421T205832Z
DTSTART;VALUE=DATE:20231122
DTEND;VALUE=DATE:20231123
SUMMARY:Naše Cesty za štěstím - Turecko\, Kostarika\, Japonsko
DESCRIPTION:Naše Cesty za štěstímTurecko · Kostarika · JaponskoPojďte se s námi ponořit pod povrch a prozkoumat podstatu věci. Pojďte se s námi neúnavně pídit po tom\, co znamená život v Turecku\, Kostarice a Japonsku. Odhoďte všechny myšlenky na povinnosti všedního dne a staňte se na chvíli hrdiny z dobrodružných filmů. Prožijte s námi příběhy Indiana Jonese\, Mauglího iposledních samurajů v zemích tak kontrastních\, že i den s nocí jsou na to krátké.Tři význačné země\, tři strhující přístupy k životu. Prozkoumejte s námi tajemstvídlouhověkosti a principy štěstí místních obyvatel\, se kterými jsme provádělihloubkové rozhovory a zažívali rozličná dobrodružství. Na naší devítiměsíční cestěpo Turecku\, Kostarice a Japonsku jsme zjistili mnohem víc\, než jsme na začátkuvůbec doufali. A s tímto rancem poznání\, netradičních příběhů a veselých anekdotteď míříme právě k vám!V podání Matouše Hurtíka a Kristýny TronečkovéNa závěr přednášky se můžete těšit na autorské čtení\, autogramiádu a křest knihyNaše Cesty za štěstím!Web knih:&nbsp\;www.cestyzastestim.czCestovatelský web přednášejících:&nbsp\;www.nakridlech.cz
LOCATION:Nelahozeves
END:VEVENT
END:VCALENDAR