BEGIN:VCALENDAR
VERSION:2.0
CALSCALE:GREGORIAN
PRODID:-//MyApp//Calendar 1.0//EN
BEGIN:VEVENT
METHOD:PUBLISH
UID:34157@regionalniportaly.cz
DTSTAMP:20260422T000357Z
DTSTART;VALUE=DATE:20230729
DTEND;VALUE=DATE:20230730
SUMMARY:Dvě slova jako klíč
DESCRIPTION:Nový český film Dvě slova jako klíč o neznámých sílách\, jež řídí naše kroky představí osobně režisér Dan Svátek! Na plátně a nebo možná i naživo potkáte báječné herce - více v traileru. Start filmu 19:30.Bar a pokladnu otevíráme hodinu před filmem a zavíráme mnoho hodin po filmu www.kinojevany.cz
LOCATION:Jevany
END:VEVENT
END:VCALENDAR