BEGIN:VCALENDAR
VERSION:2.0
CALSCALE:GREGORIAN
PRODID:-//MyApp//Calendar 1.0//EN
BEGIN:VEVENT
METHOD:PUBLISH
UID:33865@regionalniportaly.cz
DTSTAMP:20260422T050544Z
DTSTART;VALUE=DATE:20230712
DTEND;VALUE=DATE:20230713
SUMMARY:Říčanská hudební skupina JazzM
DESCRIPTION:Říčanská hudební skupina JazzM se věnuje fusion-groove stylu\, ale i jazzovým standardům a vlastnímu repertoáru.Bicí - Radek BřicháčBasa - Jiří FilčevKlávesy - Marek ŠachSaxofon - Johan Korbel
LOCATION:Říčany
END:VEVENT
END:VCALENDAR