BEGIN:VCALENDAR
VERSION:2.0
CALSCALE:GREGORIAN
PRODID:-//MyApp//Calendar 1.0//EN
BEGIN:VEVENT
METHOD:PUBLISH
UID:33862@regionalniportaly.cz
DTSTAMP:20260422T031028Z
DTSTART;VALUE=DATE:20230705
DTEND;VALUE=DATE:20230706
SUMMARY:Radim Zenkl & Ondra Kozák
DESCRIPTION:Čechoameričan Radim Zenkl založil toto hudební duo s Ondrou Kozákem jako svůj evropský koncertní projekt. Posluchači se můžou těšit na skladby a písně z vlastní tvorby obou hráčů doplněné o bluegrassové\, swingové\, keltské a „world music“ tradicionály v osobitých aranžmá. Svoji spolupráci zahájili před dvěma roky\, mají za sebou řadu úspěšných koncertů v ČR\, na Slovensku\, Německu\, Dánsku\, Francii\, a na konci roku 2022 vydali společné CD “Eastern Grass“.Radim Zenkl se narodil v Opavě\, od léta roku 1989 působí v USA\, kde v roce 1992 zvítězil v prestižní celoamerické mandolínové soutěži s mezinárodní účastí „Winfield Mandolin Championship“. Natočil osm solových CD a vynalezl speciální mandolínovou techniku\, při které nástroj zní jako dva nástroje současně.Ondra Kozák pochází z Orlové\, získal 5x titul „Kytarista roku“ v Anketě Bluegrassové asociace ČR. S různými skupinami jako zpěvák a hráč vyhrál celkem 4x prestižní soutěž o evropskou kapelu roku na francouzském La Roche Bluegrass Festivalu. Publikuje ATAmusic podcast – český audio seriál pro muzikanty.
LOCATION:Říčany
END:VEVENT
END:VCALENDAR