BEGIN:VCALENDAR
VERSION:2.0
CALSCALE:GREGORIAN
PRODID:-//MyApp//Calendar 1.0//EN
BEGIN:VEVENT
METHOD:PUBLISH
UID:33861@regionalniportaly.cz
DTSTAMP:20260421T234551Z
DTSTART;VALUE=DATE:20230807
DTEND;VALUE=DATE:20230808
SUMMARY:Čtyři dohody
DESCRIPTION:Benefiční představení podle knihy Dona M. Ruize Čtyři dohody založené na staré moudrosti Toltéků.Jaroslav Dušek vede monolog a vysvětluje návštěvníkům tak postupně všechny čtyři dohody z této knihy\, mezi kterými vystupují dva hudebníci se svými písněmi. Promlouvá na téma vzdělávací systém\, výchova dětí\, partnerské vztahy a vnímání vlastního ega a ukazuje tak prostřednictvím Toltéků\, že celý systém je založený na nesmyslném a nerovném soutěžení a honbou za iluzorním světem.
LOCATION:Říčany
END:VEVENT
END:VCALENDAR