BEGIN:VCALENDAR
VERSION:2.0
CALSCALE:GREGORIAN
PRODID:-//MyApp//Calendar 1.0//EN
BEGIN:VEVENT
METHOD:PUBLISH
UID:32785@regionalniportaly.cz
DTSTAMP:20260422T013000Z
DTSTART;VALUE=DATE:20230601
DTEND;VALUE=DATE:20230602
SUMMARY:Den dětí - diskotéka s Bingem\, Elsou\, Olafem a Pikachu
DESCRIPTION:Užijte si Den dětí na diskotéce s králíčkem Bingem\, Pokémonem Pikachu\, princeznou Elsou a sněhulákem Olafem! Na programu je diskotéka s oblíbenými dětskými hity\, tanec a focení s našimi maskoty\, malování na obličej\, oblíbené hry a aktivity! Těšit se můžete na dárečky\, občerstvení a skvělou zábavu! \n\nAkce se bude konat za jakéhokoli počasí\, v případě deště budeme ve vnitřních prostorech loděnice! \n\nAreál otevřen od 15:00 do 18:00 hodin. Program bude probíhat v čase 15:30 až  17:30 hodin.\n\nVstupné je jednotné pro děti od 1 roku (včetně) i dospělé osoby. Děti do 12 měsíců mají vstup zdarma.
LOCATION:Čelákovice
END:VEVENT
END:VCALENDAR