BEGIN:VCALENDAR
VERSION:2.0
CALSCALE:GREGORIAN
PRODID:-//MyApp//Calendar 1.0//EN
BEGIN:VEVENT
METHOD:PUBLISH
UID:32312@regionalniportaly.cz
DTSTAMP:20260421T190342Z
DTSTART;VALUE=DATE:20230426
DTEND;VALUE=DATE:20230427
SUMMARY:To nejlepší z trabantů s DANEM PŘIBÁNĚM v Úvalech
DESCRIPTION:Superpřednáška – to nejlepší z trabantů!Probojovali jsme se Asií\, Afrikou\, Jižní Amerikou\, Austrálií a zase Asií\, objeli jsme svět a řekli si\, že to všechno zamícháme\, protřepeme a vytvoříme zabijácký koktejl všeho\, co jsme na našich cestách zažili… a taky porovnáme\, co nás děsilo v roce 2007\, a co v roce 2018. To nejlepší z trabantů od začátku do konce. Přípravy\, opravy\, průšvihy\, úspěchy\, nádherná i odporná místa\, a nakonec velká finále. Kolem světa ve žlutých ponorkách na jeden zátah!
LOCATION:Úvaly
END:VEVENT
END:VCALENDAR